BEGIN:VCALENDAR
VERSION:2.0
PRODID:-//Skye Canyon - ECPv6.15.20//NONSGML v1.0//EN
CALSCALE:GREGORIAN
METHOD:PUBLISH
X-ORIGINAL-URL:https://skyecanyon.com
X-WR-CALDESC:Events for Skye Canyon
REFRESH-INTERVAL;VALUE=DURATION:PT1H
X-Robots-Tag:noindex
X-PUBLISHED-TTL:PT1H
BEGIN:VTIMEZONE
TZID:America/Los_Angeles
BEGIN:DAYLIGHT
TZOFFSETFROM:-0800
TZOFFSETTO:-0700
TZNAME:PDT
DTSTART:20220313T100000
END:DAYLIGHT
BEGIN:STANDARD
TZOFFSETFROM:-0700
TZOFFSETTO:-0800
TZNAME:PST
DTSTART:20221106T090000
END:STANDARD
BEGIN:DAYLIGHT
TZOFFSETFROM:-0800
TZOFFSETTO:-0700
TZNAME:PDT
DTSTART:20230312T100000
END:DAYLIGHT
BEGIN:STANDARD
TZOFFSETFROM:-0700
TZOFFSETTO:-0800
TZNAME:PST
DTSTART:20231105T090000
END:STANDARD
BEGIN:DAYLIGHT
TZOFFSETFROM:-0800
TZOFFSETTO:-0700
TZNAME:PDT
DTSTART:20240310T100000
END:DAYLIGHT
BEGIN:STANDARD
TZOFFSETFROM:-0700
TZOFFSETTO:-0800
TZNAME:PST
DTSTART:20241103T090000
END:STANDARD
END:VTIMEZONE
BEGIN:VEVENT
DTSTART;VALUE=DATE:20230710
DTEND;VALUE=DATE:20230718
DTSTAMP:20260424T075359
CREATED:20230703T192027Z
LAST-MODIFIED:20230703T192027Z
UID:10003265-1688947200-1689638399@skyecanyon.com
SUMMARY:Back-to-School Supply Drive
DESCRIPTION:Having the right school supplies can make a big difference for kids as they pursue their education. \nSkye Canyon is inviting you to help the students in this community by donating to our Back-to-School Supply Drive\, benefitting Assistance League Las Vegas’ Operation School Bell.  Throughout the week of July 10 – 17\, 2023\, as part of its Skye Serves charitable program\, Skye Canyon will match all school supply donations up to $2\,000. \nLearn more about our Back-to-School Supply Drive drop locations and supplies needed by visiting skyecanyon.com/school-drive/
URL:https://skyecanyon.com/skye-events/back-to-school-supply-drive-2/
LOCATION:Skye Canyon\, 10111 W. Skye Canyon Park Drive\, Las Vegas\, NV\, 89166\, United States
CATEGORIES:Public
ATTACH;FMTTYPE=image/jpeg:https://skyecanyon.com/wp-content/uploads/2020/09/school-kids.jpg
END:VEVENT
BEGIN:VEVENT
DTSTART;TZID=America/Los_Angeles:20230715T130000
DTEND;TZID=America/Los_Angeles:20230715T130000
DTSTAMP:20260424T075359
CREATED:20230605T223159Z
LAST-MODIFIED:20230629T232332Z
UID:10003253-1689426000-1689426000@skyecanyon.com
SUMMARY:Spin & Stretch
DESCRIPTION:Come join this high energy class every Saturday at 1pm where we will be working on building cardiovascular endurance following with gentle stretching.\nBring water and a towel. All levels welcome. (limited to 4 people) \nPlease RSVP for all classes to ensure a spot in the class. Click here to reserve your spot.
URL:https://skyecanyon.com/skye-events/spin-stretch/2023-07-15/
LOCATION:Skye Fitness
CATEGORIES:Resident
ATTACH;FMTTYPE=image/jpeg:https://skyecanyon.com/wp-content/uploads/2018/10/Skye-0120-1.jpg
END:VEVENT
BEGIN:VEVENT
DTSTART;TZID=America/Los_Angeles:20230715T140000
DTEND;TZID=America/Los_Angeles:20230715T140000
DTSTAMP:20260424T075359
CREATED:20230602T223429Z
LAST-MODIFIED:20230818T230142Z
UID:10003119-1689429600-1689429600@skyecanyon.com
SUMMARY:Strength Circuit Training
DESCRIPTION:This class will focus on building strength and muscular endurance (with shorter resting periods) using dumbbells\, kettlebells\, resistance bands\, gliding discs\, and own bodyweight. \nRegular Skye Fitness Classes \n1 session: $7\n4 sessions: $24\n8 sessions: $40\n12 sessions: $48 \nPlease RSVP for all classes to ensure a spot in the class by visiting The Skye Canyon Resident Events website
URL:https://skyecanyon.com/skye-events/strength-circuit-training/2023-07-15/
LOCATION:Skye Fitness
CATEGORIES:Resident
END:VEVENT
END:VCALENDAR