BEGIN:VCALENDAR
VERSION:2.0
PRODID:-//Skye Canyon - ECPv6.15.20//NONSGML v1.0//EN
CALSCALE:GREGORIAN
METHOD:PUBLISH
X-ORIGINAL-URL:https://skyecanyon.com
X-WR-CALDESC:Events for Skye Canyon
REFRESH-INTERVAL;VALUE=DURATION:PT1H
X-Robots-Tag:noindex
X-PUBLISHED-TTL:PT1H
BEGIN:VTIMEZONE
TZID:America/Los_Angeles
BEGIN:DAYLIGHT
TZOFFSETFROM:-0800
TZOFFSETTO:-0700
TZNAME:PDT
DTSTART:20200308T100000
END:DAYLIGHT
BEGIN:STANDARD
TZOFFSETFROM:-0700
TZOFFSETTO:-0800
TZNAME:PST
DTSTART:20201101T090000
END:STANDARD
BEGIN:DAYLIGHT
TZOFFSETFROM:-0800
TZOFFSETTO:-0700
TZNAME:PDT
DTSTART:20210314T100000
END:DAYLIGHT
BEGIN:STANDARD
TZOFFSETFROM:-0700
TZOFFSETTO:-0800
TZNAME:PST
DTSTART:20211107T090000
END:STANDARD
BEGIN:DAYLIGHT
TZOFFSETFROM:-0800
TZOFFSETTO:-0700
TZNAME:PDT
DTSTART:20220313T100000
END:DAYLIGHT
BEGIN:STANDARD
TZOFFSETFROM:-0700
TZOFFSETTO:-0800
TZNAME:PST
DTSTART:20221106T090000
END:STANDARD
END:VTIMEZONE
BEGIN:VEVENT
DTSTART;TZID=America/Los_Angeles:20210529T093000
DTEND;TZID=America/Los_Angeles:20210529T120000
DTSTAMP:20260419T105818
CREATED:20210428T172254Z
LAST-MODIFIED:20210505T175849Z
UID:10002310-1622280600-1622289600@skyecanyon.com
SUMMARY:2nd Annual Patriotic Parade
DESCRIPTION:By popular demand and in celebration of Memorial Day 2021\, Skye Canyon is hosting its second annual Patriotic Car Parade on Saturday\, May 29th. An opportunity for families to show off their patriotic spirit\, community pride and creativity\, this year’s event also helps support Kline Veterans Fund\, one of the community’s charity partners. For a $5 donation\, families can register for a spot in the car parade. Decorate the vehicle in red\, white\, and blue and show your spirit. \nThose who want to participate in the Patriotic Car Parade should register here.
URL:https://skyecanyon.com/skye-events/patriotic-parade-2021/
LOCATION:Skye Canyon Park\, 10111 W. Skye Canyon Park Drive\, Las Vegas\, NV\, 89166\, United States
CATEGORIES:Public
ATTACH;FMTTYPE=image/jpeg:https://skyecanyon.com/wp-content/uploads/2020/05/Patriotic-Parade-landing-page-hero-image-desktop-1.jpg
END:VEVENT
END:VCALENDAR