BEGIN:VCALENDAR
VERSION:2.0
PRODID:-//Skye Canyon - ECPv6.15.20//NONSGML v1.0//EN
CALSCALE:GREGORIAN
METHOD:PUBLISH
X-WR-CALNAME:Skye Canyon
X-ORIGINAL-URL:https://skyecanyon.com
X-WR-CALDESC:Events for Skye Canyon
REFRESH-INTERVAL;VALUE=DURATION:PT1H
X-Robots-Tag:noindex
X-PUBLISHED-TTL:PT1H
BEGIN:VTIMEZONE
TZID:America/Los_Angeles
BEGIN:DAYLIGHT
TZOFFSETFROM:-0800
TZOFFSETTO:-0700
TZNAME:PDT
DTSTART:20190310T100000
END:DAYLIGHT
BEGIN:STANDARD
TZOFFSETFROM:-0700
TZOFFSETTO:-0800
TZNAME:PST
DTSTART:20191103T090000
END:STANDARD
BEGIN:DAYLIGHT
TZOFFSETFROM:-0800
TZOFFSETTO:-0700
TZNAME:PDT
DTSTART:20200308T100000
END:DAYLIGHT
BEGIN:STANDARD
TZOFFSETFROM:-0700
TZOFFSETTO:-0800
TZNAME:PST
DTSTART:20201101T090000
END:STANDARD
BEGIN:DAYLIGHT
TZOFFSETFROM:-0800
TZOFFSETTO:-0700
TZNAME:PDT
DTSTART:20210314T100000
END:DAYLIGHT
BEGIN:STANDARD
TZOFFSETFROM:-0700
TZOFFSETTO:-0800
TZNAME:PST
DTSTART:20211107T090000
END:STANDARD
END:VTIMEZONE
BEGIN:VEVENT
DTSTART;TZID=America/Los_Angeles:20200317T100000
DTEND;TZID=America/Los_Angeles:20200317T120000
DTSTAMP:20260419T084525
CREATED:20181130T001851Z
LAST-MODIFIED:20200305T230906Z
UID:10002224-1584439200-1584446400@skyecanyon.com
SUMMARY:Pilates Reformer | 10AM & 11AM
DESCRIPTION:Tuesdays at 10:00am & 11:00am \n\n\n\n\nPlease RSVP for all classes to ensure a spot in the class: 702-786-0207 \n\n\n\n\n*Fee based specialty classes
URL:https://skyecanyon.com/skye-events/pilates-reformer-3-17-20/
LOCATION:Skye Fitness
CATEGORIES:Resident
ATTACH;FMTTYPE=image/jpeg:https://skyecanyon.com/wp-content/uploads/2018/08/Skye_Canyon_062017_3744_fitliveshere.jpg
END:VEVENT
BEGIN:VEVENT
DTSTART;TZID=America/Los_Angeles:20200316T190000
DTEND;TZID=America/Los_Angeles:20200316T190000
DTSTAMP:20260419T084525
CREATED:20181228T183505Z
LAST-MODIFIED:20200305T232204Z
UID:10002230-1584385200-1584385200@skyecanyon.com
SUMMARY:Zumba Class
DESCRIPTION:Every Monday night at 7:00pm\, join us for a Zumba Class at Skye Fitness! \nPlease RSVP for all classes to ensure a spot in the class: 702-786-0207
URL:https://skyecanyon.com/skye-events/zumba-3-16-20/
LOCATION:Skye Fitness
CATEGORIES:Resident
END:VEVENT
BEGIN:VEVENT
DTSTART;TZID=America/Los_Angeles:20200316T093000
DTEND;TZID=America/Los_Angeles:20200316T093000
DTSTAMP:20260419T084525
CREATED:20181130T001851Z
LAST-MODIFIED:20200305T232527Z
UID:10002233-1584351000-1584351000@skyecanyon.com
SUMMARY:P90X
DESCRIPTION:Monday mornings at 9:30am \n\n\n\n\nPlease RSVP for all classes to ensure a spot in the class: 702-786-0207
URL:https://skyecanyon.com/skye-events/p90x-3-16-20/
LOCATION:Skye Fitness
CATEGORIES:Resident
END:VEVENT
BEGIN:VEVENT
DTSTART;TZID=America/Los_Angeles:20200314T140000
DTEND;TZID=America/Los_Angeles:20200314T153000
DTSTAMP:20260419T084525
CREATED:20200305T225221Z
LAST-MODIFIED:20200305T225426Z
UID:10001997-1584194400-1584199800@skyecanyon.com
SUMMARY:Women's Self Defense
DESCRIPTION:In this class women will learn basic self-defense skills that will not only increase their personal safety\, but also increase confidence and spatial awareness in a public situation. No previous experience necessary. All female guests welcome!
URL:https://skyecanyon.com/skye-events/womens-self-defense-2/
LOCATION:Skye Fitness
CATEGORIES:Resident
END:VEVENT
BEGIN:VEVENT
DTSTART;TZID=America/Los_Angeles:20200311T180000
DTEND;TZID=America/Los_Angeles:20200311T200000
DTSTAMP:20260419T084525
CREATED:20181130T001851Z
LAST-MODIFIED:20200305T230605Z
UID:10002001-1583949600-1583956800@skyecanyon.com
SUMMARY:Pilates Reformer | 6PM & 7PM
DESCRIPTION:Wednesdays at 6:00 pm & 7:00pm \n\n\n\n\nPlease RSVP for all classes to ensure a spot in the class: 702-786-0207 \n\n\n\n\n*Fee based specialty classes
URL:https://skyecanyon.com/skye-events/pilates-reformer-3-11-20/
LOCATION:Skye Fitness
CATEGORIES:Resident
ATTACH;FMTTYPE=image/jpeg:https://skyecanyon.com/wp-content/uploads/2018/08/Skye_Canyon_062017_3744_fitliveshere.jpg
END:VEVENT
BEGIN:VEVENT
DTSTART;TZID=America/Los_Angeles:20200311T110000
DTEND;TZID=America/Los_Angeles:20200311T110000
DTSTAMP:20260419T084525
CREATED:20181029T222239Z
LAST-MODIFIED:20200305T230403Z
UID:10001999-1583924400-1583924400@skyecanyon.com
SUMMARY:Yoga
DESCRIPTION:Wednesdays at 11:00am at Skye Fitness \nPlease RSVP for all classes to ensure a spot in the class: 702-786-0207
URL:https://skyecanyon.com/skye-events/yoga-3-11-20/
LOCATION:Skye Fitness
CATEGORIES:Resident
END:VEVENT
BEGIN:VEVENT
DTSTART;TZID=America/Los_Angeles:20200310T180000
DTEND;TZID=America/Los_Angeles:20200310T180000
DTSTAMP:20260419T084525
CREATED:20181106T001851Z
LAST-MODIFIED:20200305T231718Z
UID:10002226-1583863200-1583863200@skyecanyon.com
SUMMARY:TRX Training
DESCRIPTION:Please RSVP for all classes to ensure a spot in the class: 702-786-0207 \n\n\n\n\n*Fee based specialty class
URL:https://skyecanyon.com/skye-events/trx-training-3-10-20/
LOCATION:Skye Fitness
CATEGORIES:Resident
ATTACH;FMTTYPE=image/jpeg:https://skyecanyon.com/wp-content/uploads/2018/10/Skye_Canyon_062017_3487.jpg
END:VEVENT
BEGIN:VEVENT
DTSTART;TZID=America/Los_Angeles:20200310T100000
DTEND;TZID=America/Los_Angeles:20200310T120000
DTSTAMP:20260419T084525
CREATED:20181130T001851Z
LAST-MODIFIED:20200305T230831Z
UID:10002003-1583834400-1583841600@skyecanyon.com
SUMMARY:Pilates Reformer | 10AM & 11AM
DESCRIPTION:Tuesdays at 10:00am & 11:00am \n\n\n\n\nPlease RSVP for all classes to ensure a spot in the class: 702-786-0207 \n\n\n\n\n*Fee based specialty classes
URL:https://skyecanyon.com/skye-events/pilates-reformer-3-10-20/
LOCATION:Skye Fitness
CATEGORIES:Resident
ATTACH;FMTTYPE=image/jpeg:https://skyecanyon.com/wp-content/uploads/2018/08/Skye_Canyon_062017_3744_fitliveshere.jpg
END:VEVENT
BEGIN:VEVENT
DTSTART;TZID=America/Los_Angeles:20200309T190000
DTEND;TZID=America/Los_Angeles:20200309T190000
DTSTAMP:20260419T084525
CREATED:20181228T183505Z
LAST-MODIFIED:20200305T232115Z
UID:10002229-1583780400-1583780400@skyecanyon.com
SUMMARY:Zumba Class
DESCRIPTION:Every Monday night at 7:00pm\, join us for a Zumba Class at Skye Fitness! \nPlease RSVP for all classes to ensure a spot in the class: 702-786-0207
URL:https://skyecanyon.com/skye-events/zumba-3-9-20/
LOCATION:Skye Fitness
CATEGORIES:Resident
END:VEVENT
BEGIN:VEVENT
DTSTART;TZID=America/Los_Angeles:20200309T093000
DTEND;TZID=America/Los_Angeles:20200309T093000
DTSTAMP:20260419T084525
CREATED:20181130T001851Z
LAST-MODIFIED:20200305T232447Z
UID:10002232-1583746200-1583746200@skyecanyon.com
SUMMARY:P90X
DESCRIPTION:Monday mornings at 9:30am \n\n\n\n\nPlease RSVP for all classes to ensure a spot in the class: 702-786-0207
URL:https://skyecanyon.com/skye-events/p90x-3-9-20/
LOCATION:Skye Fitness
CATEGORIES:Resident
END:VEVENT
BEGIN:VEVENT
DTSTART;TZID=America/Los_Angeles:20200307T080000
DTEND;TZID=America/Los_Angeles:20200307T130000
DTSTAMP:20260419T084525
CREATED:20200130T232919Z
LAST-MODIFIED:20200130T232929Z
UID:10001995-1583568000-1583586000@skyecanyon.com
SUMMARY:Fit Fest 2020
DESCRIPTION:Skye Canyon invites the whole family out to Fit Fest on Saturday\, March 7th! Following the return of the 5K/8K Road Race and the new 1-Mile Fun Run\, you can recharge with Silent Savasana yoga\, tour the active lifestyle expo\, stroll the Farmers Market and fuel your whole adventure with bites from local food trucks. Kid’s activities include a rock climbing wall and field day games\, so join us for the run and the fun!
URL:https://skyecanyon.com/skye-events/skye-canyon-fit-fest-2020/
LOCATION:Skye Canyon Park
CATEGORIES:Public
ATTACH;FMTTYPE=image/png:https://skyecanyon.com/wp-content/uploads/2020/01/FIT-FEST-2020-calendar-image.png
END:VEVENT
BEGIN:VEVENT
DTSTART;TZID=America/Los_Angeles:20200305T180000
DTEND;TZID=America/Los_Angeles:20200305T180000
DTSTAMP:20260419T084525
CREATED:20200305T224615Z
LAST-MODIFIED:20200305T224615Z
UID:10001996-1583431200-1583431200@skyecanyon.com
SUMMARY:Meditation - Sit & Sip
DESCRIPTION:Join us for an evening with special guest instructor\, Catherine Scherwenka\, for an evening of meditation and wine. Free to attend. Hosted by Olympia Management Services.
URL:https://skyecanyon.com/skye-events/meditation-sit-sip/
LOCATION:Skye Center
CATEGORIES:Resident
END:VEVENT
BEGIN:VEVENT
DTSTART;TZID=America/Los_Angeles:20200304T180000
DTEND;TZID=America/Los_Angeles:20200304T200000
DTSTAMP:20260419T084525
CREATED:20181130T001851Z
LAST-MODIFIED:20200305T230536Z
UID:10002000-1583344800-1583352000@skyecanyon.com
SUMMARY:Pilates Reformer | 6PM & 7PM
DESCRIPTION:Wednesdays at 6:00 pm & 7:00pm \n\n\n\n\nPlease RSVP for all classes to ensure a spot in the class: 702-786-0207 \n\n\n\n\n*Fee based specialty classes
URL:https://skyecanyon.com/skye-events/pilates-reformer-3-4-20/
LOCATION:Skye Fitness
CATEGORIES:Resident
ATTACH;FMTTYPE=image/jpeg:https://skyecanyon.com/wp-content/uploads/2018/08/Skye_Canyon_062017_3744_fitliveshere.jpg
END:VEVENT
BEGIN:VEVENT
DTSTART;TZID=America/Los_Angeles:20200304T110000
DTEND;TZID=America/Los_Angeles:20200304T110000
DTSTAMP:20260419T084525
CREATED:20181029T222239Z
LAST-MODIFIED:20200305T230333Z
UID:10001998-1583319600-1583319600@skyecanyon.com
SUMMARY:Yoga
DESCRIPTION:Wednesdays at 11:00am at Skye Fitness \nPlease RSVP for all classes to ensure a spot in the class: 702-786-0207
URL:https://skyecanyon.com/skye-events/yoga-3-4-20/
LOCATION:Skye Fitness
CATEGORIES:Resident
END:VEVENT
BEGIN:VEVENT
DTSTART;TZID=America/Los_Angeles:20200303T180000
DTEND;TZID=America/Los_Angeles:20200303T180000
DTSTAMP:20260419T084525
CREATED:20181106T001851Z
LAST-MODIFIED:20200305T231309Z
UID:10002225-1583258400-1583258400@skyecanyon.com
SUMMARY:TRX Training
DESCRIPTION:Please RSVP for all classes to ensure a spot in the class: 702-786-0207 \n\n\n\n\n*Fee based specialty class
URL:https://skyecanyon.com/skye-events/trx-training-3-3-20/
LOCATION:Skye Fitness
CATEGORIES:Resident
ATTACH;FMTTYPE=image/jpeg:https://skyecanyon.com/wp-content/uploads/2018/10/Skye_Canyon_062017_3487.jpg
END:VEVENT
BEGIN:VEVENT
DTSTART;TZID=America/Los_Angeles:20200303T100000
DTEND;TZID=America/Los_Angeles:20200303T120000
DTSTAMP:20260419T084525
CREATED:20181130T001851Z
LAST-MODIFIED:20200305T230748Z
UID:10002002-1583229600-1583236800@skyecanyon.com
SUMMARY:Pilates Reformer | 10AM & 11AM
DESCRIPTION:Tuesdays at 10:00am & 11:00am \n\n\n\n\nPlease RSVP for all classes to ensure a spot in the class: 702-786-0207 \n\n\n\n\n*Fee based specialty classes
URL:https://skyecanyon.com/skye-events/pilates-reformer-3-3-20/
LOCATION:Skye Fitness
CATEGORIES:Resident
ATTACH;FMTTYPE=image/jpeg:https://skyecanyon.com/wp-content/uploads/2018/08/Skye_Canyon_062017_3744_fitliveshere.jpg
END:VEVENT
BEGIN:VEVENT
DTSTART;TZID=America/Los_Angeles:20200302T190000
DTEND;TZID=America/Los_Angeles:20200302T190000
DTSTAMP:20260419T084525
CREATED:20181228T183505Z
LAST-MODIFIED:20200305T232039Z
UID:10002228-1583175600-1583175600@skyecanyon.com
SUMMARY:Zumba Class
DESCRIPTION:Every Monday night at 7:00pm\, join us for a Zumba Class at Skye Fitness! \nPlease RSVP for all classes to ensure a spot in the class: 702-786-0207
URL:https://skyecanyon.com/skye-events/zumba-3-2-20/
LOCATION:Skye Fitness
CATEGORIES:Resident
END:VEVENT
BEGIN:VEVENT
DTSTART;TZID=America/Los_Angeles:20200302T093000
DTEND;TZID=America/Los_Angeles:20200302T093000
DTSTAMP:20260419T084525
CREATED:20181130T001851Z
LAST-MODIFIED:20200305T232414Z
UID:10002231-1583141400-1583141400@skyecanyon.com
SUMMARY:P90X
DESCRIPTION:Monday mornings at 9:30am \n\n\n\n\nPlease RSVP for all classes to ensure a spot in the class: 702-786-0207
URL:https://skyecanyon.com/skye-events/p90x-3-2-20/
LOCATION:Skye Fitness
CATEGORIES:Resident
END:VEVENT
BEGIN:VEVENT
DTSTART;TZID=America/Los_Angeles:20200226T180000
DTEND;TZID=America/Los_Angeles:20200226T200000
DTSTAMP:20260419T084525
CREATED:20181130T001851Z
LAST-MODIFIED:20200129T211434Z
UID:10002215-1582740000-1582747200@skyecanyon.com
SUMMARY:Pilates Reformer | 6PM & 7PM
DESCRIPTION:Wednesdays at 6:00 pm & 7:00pm \n\n\n\n\nPlease RSVP for all classes to ensure a spot in the class: 702-786-0207 \n\n\n\n\n*Fee based specialty classes
URL:https://skyecanyon.com/skye-events/pilates-reformer-2-26-20/
CATEGORIES:Resident
ATTACH;FMTTYPE=image/jpeg:https://skyecanyon.com/wp-content/uploads/2018/08/Skye_Canyon_062017_3744_fitliveshere.jpg
END:VEVENT
BEGIN:VEVENT
DTSTART;TZID=America/Los_Angeles:20200226T110000
DTEND;TZID=America/Los_Angeles:20200226T110000
DTSTAMP:20260419T084525
CREATED:20181029T222239Z
LAST-MODIFIED:20200129T212233Z
UID:10002223-1582714800-1582714800@skyecanyon.com
SUMMARY:Yoga
DESCRIPTION:Wednesdays at 11:00am at Skye Fitness \nPlease RSVP for all classes to ensure a spot in the class: 702-786-0207
URL:https://skyecanyon.com/skye-events/yoga-2-26-20/
LOCATION:Skye Fitness
CATEGORIES:Resident
END:VEVENT
BEGIN:VEVENT
DTSTART;TZID=America/Los_Angeles:20200225T180000
DTEND;TZID=America/Los_Angeles:20200225T180000
DTSTAMP:20260419T084525
CREATED:20181106T001851Z
LAST-MODIFIED:20200129T205804Z
UID:10001993-1582653600-1582653600@skyecanyon.com
SUMMARY:TRX Training
DESCRIPTION:Please RSVP for all classes to ensure a spot in the class: 702-786-0207 \n\n\n\n\n*Fee based specialty class
URL:https://skyecanyon.com/skye-events/trx-training-2-25-20/
LOCATION:Skye Fitness
CATEGORIES:Resident
ATTACH;FMTTYPE=image/jpeg:https://skyecanyon.com/wp-content/uploads/2018/10/Skye_Canyon_062017_3487.jpg
END:VEVENT
BEGIN:VEVENT
DTSTART;TZID=America/Los_Angeles:20200225T100000
DTEND;TZID=America/Los_Angeles:20200225T120000
DTSTAMP:20260419T084525
CREATED:20181130T001851Z
LAST-MODIFIED:20200129T212013Z
UID:10002219-1582624800-1582632000@skyecanyon.com
SUMMARY:Pilates Reformer | 10AM & 11AM
DESCRIPTION:Tuesdays at 10:00am & 11:00am \n\n\n\n\nPlease RSVP for all classes to ensure a spot in the class: 702-786-0207 \n\n\n\n\n*Fee based specialty classes
URL:https://skyecanyon.com/skye-events/pilates-reformer-2-25-20/
CATEGORIES:Resident
ATTACH;FMTTYPE=image/jpeg:https://skyecanyon.com/wp-content/uploads/2018/08/Skye_Canyon_062017_3744_fitliveshere.jpg
END:VEVENT
BEGIN:VEVENT
DTSTART;TZID=America/Los_Angeles:20200224T190000
DTEND;TZID=America/Los_Angeles:20200224T190000
DTSTAMP:20260419T084525
CREATED:20181228T183505Z
LAST-MODIFIED:20200129T205158Z
UID:10001989-1582570800-1582570800@skyecanyon.com
SUMMARY:Zumba Class
DESCRIPTION:Every Monday night at 7:00pm\, join us for a Zumba Class at Skye Fitness! \nPlease RSVP for all classes to ensure a spot in the class: 702-786-0207
URL:https://skyecanyon.com/skye-events/zumba-2-24-20/
LOCATION:Skye Fitness
CATEGORIES:Resident
END:VEVENT
BEGIN:VEVENT
DTSTART;TZID=America/Los_Angeles:20200224T093000
DTEND;TZID=America/Los_Angeles:20200224T093000
DTSTAMP:20260419T084525
CREATED:20181130T001851Z
LAST-MODIFIED:20200129T204441Z
UID:10001984-1582536600-1582536600@skyecanyon.com
SUMMARY:P90X
DESCRIPTION:Monday mornings at 9:30am \n\n\n\n\nPlease RSVP for all classes to ensure a spot in the class: 702-786-0207
URL:https://skyecanyon.com/skye-events/p90x-2-24-20/
LOCATION:Skye Fitness
CATEGORIES:Resident
END:VEVENT
BEGIN:VEVENT
DTSTART;TZID=America/Los_Angeles:20200222T100000
DTEND;TZID=America/Los_Angeles:20200222T130000
DTSTAMP:20260419T084525
CREATED:20200129T212630Z
LAST-MODIFIED:20200129T212630Z
UID:10001994-1582365600-1582376400@skyecanyon.com
SUMMARY:First Look at Hawthorne by Lennar
DESCRIPTION:Get a First Look at our newest community\, Hawthorne by Lennar! Tour model homes and get a chance to win awesome prizes like a $250 Smith’s Marketplace gift card\, Skye Canyon Prize Pack\, and more!
URL:https://skyecanyon.com/skye-events/first-look-at-hawthorne-by-lennar/
CATEGORIES:Public
END:VEVENT
BEGIN:VEVENT
DTSTART;TZID=America/Los_Angeles:20200221T180000
DTEND;TZID=America/Los_Angeles:20200221T200000
DTSTAMP:20260419T084525
CREATED:20200129T200637Z
LAST-MODIFIED:20200129T200705Z
UID:10002209-1582308000-1582315200@skyecanyon.com
SUMMARY:Family Feud at Skye Canyon
DESCRIPTION:Come battle your friends and neighbors in the first ever Skye Canyon Family Feud! \nTeams of 1-4 and all ages are welcome. Be sure to RSVP. \nPlease RSVP for all events: 702-786-0207
URL:https://skyecanyon.com/skye-events/family-feud-at-skye-canyon-2/
LOCATION:Skye Center
CATEGORIES:Resident
END:VEVENT
BEGIN:VEVENT
DTSTART;TZID=America/Los_Angeles:20200219T180000
DTEND;TZID=America/Los_Angeles:20200219T200000
DTSTAMP:20260419T084525
CREATED:20181130T001851Z
LAST-MODIFIED:20200129T210714Z
UID:10002214-1582135200-1582142400@skyecanyon.com
SUMMARY:Pilates Reformer | 6PM & 7PM
DESCRIPTION:Wednesdays at 6:00 pm & 7:00pm \n\n\n\n\nPlease RSVP for all classes to ensure a spot in the class: 702-786-0207 \n\n\n\n\n*Fee based specialty classes
URL:https://skyecanyon.com/skye-events/pilates-reformer-2-19-20/
CATEGORIES:Resident
ATTACH;FMTTYPE=image/jpeg:https://skyecanyon.com/wp-content/uploads/2018/08/Skye_Canyon_062017_3744_fitliveshere.jpg
END:VEVENT
BEGIN:VEVENT
DTSTART;TZID=America/Los_Angeles:20200219T110000
DTEND;TZID=America/Los_Angeles:20200219T110000
DTSTAMP:20260419T084525
CREATED:20181029T222239Z
LAST-MODIFIED:20200129T212208Z
UID:10002222-1582110000-1582110000@skyecanyon.com
SUMMARY:Yoga
DESCRIPTION:Wednesdays at 11:00am at Skye Fitness \nPlease RSVP for all classes to ensure a spot in the class: 702-786-0207
URL:https://skyecanyon.com/skye-events/yoga-2-19-20/
LOCATION:Skye Fitness
CATEGORIES:Resident
END:VEVENT
BEGIN:VEVENT
DTSTART;TZID=America/Los_Angeles:20200218T180000
DTEND;TZID=America/Los_Angeles:20200218T180000
DTSTAMP:20260419T084525
CREATED:20181106T001851Z
LAST-MODIFIED:20200129T205707Z
UID:10001992-1582048800-1582048800@skyecanyon.com
SUMMARY:TRX Training
DESCRIPTION:Please RSVP for all classes to ensure a spot in the class: 702-786-0207 \n\n\n\n\n*Fee based specialty class
URL:https://skyecanyon.com/skye-events/trx-training-2-18-20/
LOCATION:Skye Fitness
CATEGORIES:Resident
ATTACH;FMTTYPE=image/jpeg:https://skyecanyon.com/wp-content/uploads/2018/10/Skye_Canyon_062017_3487.jpg
END:VEVENT
BEGIN:VEVENT
DTSTART;TZID=America/Los_Angeles:20200218T100000
DTEND;TZID=America/Los_Angeles:20200218T120000
DTSTAMP:20260419T084525
CREATED:20181130T001851Z
LAST-MODIFIED:20200129T211945Z
UID:10002218-1582020000-1582027200@skyecanyon.com
SUMMARY:Pilates Reformer | 10AM & 11AM
DESCRIPTION:Tuesdays at 10:00am & 11:00am \n\n\n\n\nPlease RSVP for all classes to ensure a spot in the class: 702-786-0207 \n\n\n\n\n*Fee based specialty classes
URL:https://skyecanyon.com/skye-events/pilates-reformer-2-18-20/
CATEGORIES:Resident
ATTACH;FMTTYPE=image/jpeg:https://skyecanyon.com/wp-content/uploads/2018/08/Skye_Canyon_062017_3744_fitliveshere.jpg
END:VEVENT
END:VCALENDAR