BEGIN:VCALENDAR
VERSION:2.0
PRODID:-//Skye Canyon - ECPv6.15.20//NONSGML v1.0//EN
CALSCALE:GREGORIAN
METHOD:PUBLISH
X-WR-CALNAME:Skye Canyon
X-ORIGINAL-URL:https://skyecanyon.com
X-WR-CALDESC:Events for Skye Canyon
REFRESH-INTERVAL;VALUE=DURATION:PT1H
X-Robots-Tag:noindex
X-PUBLISHED-TTL:PT1H
BEGIN:VTIMEZONE
TZID:America/Los_Angeles
BEGIN:DAYLIGHT
TZOFFSETFROM:-0800
TZOFFSETTO:-0700
TZNAME:PDT
DTSTART:20170312T100000
END:DAYLIGHT
BEGIN:STANDARD
TZOFFSETFROM:-0700
TZOFFSETTO:-0800
TZNAME:PST
DTSTART:20171105T090000
END:STANDARD
BEGIN:DAYLIGHT
TZOFFSETFROM:-0800
TZOFFSETTO:-0700
TZNAME:PDT
DTSTART:20180311T100000
END:DAYLIGHT
BEGIN:STANDARD
TZOFFSETFROM:-0700
TZOFFSETTO:-0800
TZNAME:PST
DTSTART:20181104T090000
END:STANDARD
BEGIN:DAYLIGHT
TZOFFSETFROM:-0800
TZOFFSETTO:-0700
TZNAME:PDT
DTSTART:20190310T100000
END:DAYLIGHT
BEGIN:STANDARD
TZOFFSETFROM:-0700
TZOFFSETTO:-0800
TZNAME:PST
DTSTART:20191103T090000
END:STANDARD
END:VTIMEZONE
BEGIN:VEVENT
DTSTART;VALUE=DATE:20180310
DTEND;VALUE=DATE:20180311
DTSTAMP:20260421T222357
CREATED:20180823T235359Z
LAST-MODIFIED:20181024T193750Z
UID:10001717-1520640000-1520726399@skyecanyon.com
SUMMARY:Join us at the second annual Fit Fest for the whole family at Skye Canyon Park.
DESCRIPTION:Start the morning at our 8K Trail Mix & 5K Road Race\, then reward yourself with bites from local food trucks or Skye Bistro\, proudly serving Starbucks coffee. Hit the Recovery and Relaxation area for FST stretching and massages\, before and after the race. Then explore the Active Lifestyle Expo with vendors specializing in products for a healthy and active lifestyle.
URL:https://skyecanyon.com/skye-events/join-us-second-annual-fit-fest-whole-family-skye-canyon-park/
CATEGORIES:Public
ATTACH;FMTTYPE=image/jpeg:https://skyecanyon.com/wp-content/uploads/2018/02/fit-fest-2018.jpg
END:VEVENT
BEGIN:VEVENT
DTSTART;TZID=America/Los_Angeles:20180329T000000
DTEND;TZID=America/Los_Angeles:20180329T000000
DTSTAMP:20260421T222357
CREATED:20180921T192427Z
LAST-MODIFIED:20181102T185256Z
UID:10001750-1522281600-1522281600@skyecanyon.com
SUMMARY:Fit Fest Recap
DESCRIPTION:Runners and walkers took part in the Third Annual Skye Canyon 5K Road and 8K Trail Mix Run on Saturday\, March 10. Nearly 200 people laced up to run or walk the course helping to raise $2\,200 for Create a Change Now\, a non-profit organization committed to educating at-risk kids in Las Vegas about health and nutrition. \nPlayers from the Las Vegas Lights FC kicked off the race opening ceremony honors. All racers received a finisher’s medal\, t-shirt\, and goodie bag. Big congratulations to the top finishers: \nFirst Place 5k: \n\nFemale – Emily Mangino 23:06\nMale – Brady Grayson 16:20\n\nFirst Place 8k: \n\nFemale –  Angela Martinez 40:45\nMale – Daniel Brewer 34:03\n\nSecond Place 5k: \n\nFemale –Ashton Wehrkamp 25:05\nMale – Jason Martin 20:40\n\nSecond Place 8k: \n\nFemale – Lauren Iversen 41:16\nMale – Jack Christiansen 34:31\n\nThird Place 5k: \n\nFemale – Victoria Cousino 25:35\nMale – Dave Ellsworth 22:18\n\nThird Place 8k: \n\nFemale – Trisha Davenport 42:30\nMale – Robert Partus 35:05\n\n  \nAfter the race\, Skye Canyon’s second annual Fit Fest kicked off at Skye Canyon Park. A family-friendly celebration of fitness and active living\, Fit Fest offered activities for people of all ages. Over 1\,000 people attended. \nRunners\, walkers\, and attendees who needed to rejuvenate took advantage of Lift With Aloha’s FST stretching for the entire body. Kids scaled the rock climbing wall and had fun navigating through the obstacle course and also had a chance to make slime! \nAcclaimed local chef Will Staten conducted healthy cooking demos every 30 minutes and enticed attendees’ taste buds with samples of his strawberry salsa and chips. Whole Foods’ Build Your Own Trail Mix station was a huge hit and attendees mixed and matched nuts\, dried fruit\, and candies. Local food trucks like 50 Shades of Green and Latin Fusion served-up meals and munchies while Skye Bistro prepared an array of specialty Starbucks drinks. \nStar Nursery brought over 100 varieties of veggie plants and flowers\, teaching kids and some adults how to plant basil\, cucumber\, and other veggies so they could enjoy a home garden. The Southern Nevada Bicycle Coalition’s “paint bike” was a favorite for kids who pedaled to splatter paint\, creating an original work of art. SNVBC also handed out reflectors and helmets to promote bike safety. Southwest Bikes showcased a few of their bikes\, with the most popular bike being the new electric bike. \nSkye Pass partner Lee Canyon was among over 30 vendors like Soccer Shots\, Bombs & Bubbles\, Spicy Camel\, Heal Outside the Box\, Angry Joe Coffee\, Southwest Medical\, and Integrative Acupuncture of Southern Nevada. \nThe second annual Fit Fest was a big success! It’s clear our residents and the Las Vegas community enjoy celebrating the outdoors\, active living\, and healthy cuisine—which is all a part of Skye Canyon Life. Stay tuned for more Fit Lives Here events!
URL:https://skyecanyon.com/skye-events/fit-fest-recap/
LOCATION:Skye Canyon\, 10111 W. Skye Canyon Park Drive\, Las Vegas\, NV\, 89166\, United States
CATEGORIES:Public
ATTACH;FMTTYPE=image/jpeg:https://skyecanyon.com/wp-content/uploads/2018/03/2018_Road_Trail_Run_Fit_Fest_840A3583_970x550.jpg
END:VEVENT
BEGIN:VEVENT
DTSTART;VALUE=DATE:20180519
DTEND;VALUE=DATE:20180520
DTSTAMP:20260421T222357
CREATED:20180823T235215Z
LAST-MODIFIED:20181024T193735Z
UID:10001716-1526688000-1526774399@skyecanyon.com
SUMMARY:Skye & Stars Event
DESCRIPTION:Skye Canyon welcomes back the highly anticipated Skye & Stars event\, part of our FIT LIVES HERE series.
URL:https://skyecanyon.com/skye-events/skye-stars-event/
CATEGORIES:Public
ATTACH;FMTTYPE=image/jpeg:https://skyecanyon.com/wp-content/uploads/2018/04/OLY18025_SkyeStars_970x550.jpg
END:VEVENT
BEGIN:VEVENT
DTSTART;TZID=America/Los_Angeles:20180523T000000
DTEND;TZID=America/Los_Angeles:20180523T000000
DTSTAMP:20260421T222357
CREATED:20180921T192941Z
LAST-MODIFIED:20181031T195149Z
UID:10001753-1527033600-1527033600@skyecanyon.com
SUMMARY:Skye & Stars Recap
DESCRIPTION:Since its debut in 2016\, Skye and Stars has become one of Skye Canyon’s most popular events and this year’s event continued to deliver. On Saturday\, May 19\, hundreds of people gathered at Skye Canyon Park to picnic\, enjoy music\, and take in sweeping views of the mountains before sunset. When the sun dropped behind the hills\, REI got the party started with glow-in-the-dark bowling and the Las Vegas Astronomical Society (LVAS) fired up its telescopes and the stargazing party switched into high gear. \nWhen it comes to moons and stars\, LVAS members are some of the most knowledgeable people in Las Vegas. Their volunteers helped curious stargazers of all ages to understand the evening’s celestial sights. For example\, Venus was visible as it set in the west. Stargazers learned that this was a special treat since clouds typically obscure its view. Stargazers not only viewed Venus but learned interesting facts like the planet is so hot that satellite probes melt within minutes of landing. \nLater in the evening\, Jupiter and its four Galilean moons were visible. The largest planet in the solar system\, LVAS’ team shared fun facts like a day on Jupiter is only nine Earth hours\, and scientists speculate that one of Jupiter’s moons may possibly sustain life. \nLast but not least\, “Star Wars: The Empire Strikes Back” was playing throughout Skye Center for those who just couldn’t get enough of the celestial action. \nThe dark night sky at Skye Canyon Park makes it an ideal venue for stargazing. Please stay tuned for updates on future events by joining our social media community or subscribing to our newsletter updates.
URL:https://skyecanyon.com/skye-events/skye-stars-recap/
LOCATION:Skye Canyon\, 10111 W. Skye Canyon Park Drive\, Las Vegas\, NV\, 89166\, United States
CATEGORIES:Public
ATTACH;FMTTYPE=image/jpeg:https://skyecanyon.com/wp-content/uploads/2018/05/IMG_0389.jpg
END:VEVENT
BEGIN:VEVENT
DTSTART;TZID=America/Los_Angeles:20180920T140000
DTEND;TZID=America/Los_Angeles:20180920T180000
DTSTAMP:20260421T222357
CREATED:20180921T193527Z
LAST-MODIFIED:20181024T193938Z
UID:10001754-1537452000-1537466400@skyecanyon.com
SUMMARY:Chalktober Fest 2018
DESCRIPTION:“Fall” in love with all things artistic at Skye Canyon’s Chalktober Fest on Saturday\, Oct. 20\, at Skye Canyon Park. This year’s art festival celebrates the rising popularity of chalk art with a juried competition featuring 45 artists ranging from high school-age amateurs to professional artists\, giving their artistic take on what lights them up about life in Las Vegas. International chalk art competitor and local artist Jay Schwartz will create this year’s live large-scale art piece. \nA freestyle chalk art area with supplies has been designated for individuals of all ages and talents who feel inspired to create their own masterpiece. \nLooking for something to brighten up the home or office? The art fair will feature more than 30 artists showcasing and selling artwork in an array of mediums. \nOf course\, it wouldn’t be a fall festival without pumpkins. Skye Canyon will be giving away 1\,000 6- to 15-pound pumpkins to kids at the Pick-a-Pumpkin fundraiser to assist Create A Change Now\, a local nonprofit committed to eradicating preventable childhood diseases. A $2 donation is suggested per pumpkin. Next stop – the pumpkin decorating station. \nFood trucks\, along with craft beer and wine offerings will also be available\, and all proceeds from beer and wine sales will also benefit Create a Change Now. \nChalktober Fest gets better and better. Kids can also get their face painted\, play in the bounce houses or on the giant slide. To capture the fun\, an autumn-themed photo booth will be set up. Costumes are encouraged. Chalktober Fest is free and open from 2 to 6 p.m.
URL:https://skyecanyon.com/skye-events/chalktober-fest-2018/
LOCATION:Skye Canyon\, 10111 W. Skye Canyon Park Drive\, Las Vegas\, NV\, 89166\, United States
CATEGORIES:Public
ATTACH;FMTTYPE=image/jpeg:https://skyecanyon.com/wp-content/uploads/2018/09/4-1024x536.jpg
END:VEVENT
BEGIN:VEVENT
DTSTART;TZID=America/Los_Angeles:20181020T090000
DTEND;TZID=America/Los_Angeles:20181020T173000
DTSTAMP:20260421T222357
CREATED:20180822T041450Z
LAST-MODIFIED:20181031T195115Z
UID:10001715-1540026000-1540056600@skyecanyon.com
SUMMARY:Chalktober Fest
DESCRIPTION:Calling all artists! What lights you up about our city? Is it the swirling texture of sandstone or the bright lights of Las Vegas’ famous skyline? How do you define Spirit of Las Vegas? Skye Canyon’s second annual juried chalk art competition’s theme is Spirit of Las Vegas and artists are invited to participate in this unique event during Chalktober Fest\, a fall art festival on Saturday\, Oct. 20\, 2018\, at Skye Canyon Park. There is no fee to enter\, but the contest is limited to 45 artists. Registration is open now through September 20 at https://bit.ly/2M439LT. \nThe contest is open to both professional and amateur artists who will compete in three categories: high school student\, amateur or professional. Each category offers cash prizes\, $250 for first place\, $100 for second place\, and $50 for third place in each group. There is also a $500 award for one overall winner in the People’s Choice award. \nArtist check-in is 9 to 11 a.m. and work must be completed by 4 p.m. Artists will be assigned a station to work and will receive a set of water-based pastels. (Artists can also bring their own supplies.) A jury of local art aficionados will judge contestants work\, and winners will be announced at 5:15 p.m. \nBecause this is a fall festival\, Skye Canyon is offering artists the chance to show off and sell their wares.  Thirty 10 x 10 booths are available to artists of all mediums for no charge. This pop-up vendor village will include all mediums such as paint\, sketch\, pottery\, jewelry\, sculpture\, and photography\, and more. Artists do not have to compete in the chalk art competition to be considered for a vendor booth. The deadline for booth consideration is September 20\, and those interested can apply at https://bit.ly/2NZYVG1. \nDon’t miss this opportunity to contribute to a colorful collection of work that illustrates the many interpretations of Spirit of Las Vegas.
URL:https://skyecanyon.com/skye-events/chalktober-fest/
LOCATION:Skye Canyon\, 10111 W. Skye Canyon Park Drive\, Las Vegas\, NV\, 89166\, United States
CATEGORIES:Public
ATTACH;FMTTYPE=image/jpeg:https://skyecanyon.com/wp-content/uploads/2018/08/840A8712-1024x683.jpg
END:VEVENT
BEGIN:VEVENT
DTSTART;TZID=America/Los_Angeles:20181103T150000
DTEND;TZID=America/Los_Angeles:20181103T190000
DTSTAMP:20260421T222357
CREATED:20181029T211523Z
LAST-MODIFIED:20181029T211523Z
UID:10001784-1541257200-1541271600@skyecanyon.com
SUMMARY:Pray For Snow Party w/ Lee Canyon
DESCRIPTION:An après ski type of party to kick off the ski season in Las Vegas. Food\, Beverage and live entertainment available.
URL:https://skyecanyon.com/skye-events/pray-for-snow-party-w-lee-canyon/
CATEGORIES:Public
ATTACH;FMTTYPE=image/jpeg:https://skyecanyon.com/wp-content/uploads/2018/10/pray-for-snow_event-img.jpg
END:VEVENT
BEGIN:VEVENT
DTSTART;TZID=America/Los_Angeles:20181104T120000
DTEND;TZID=America/Los_Angeles:20181104T150000
DTSTAMP:20260421T222357
CREATED:20181029T211721Z
LAST-MODIFIED:20181029T215636Z
UID:10001790-1541332800-1541343600@skyecanyon.com
SUMMARY:Bike Demo Day w/ Southwest Bikes
DESCRIPTION:Join Southwest Bikes for a day of bike demos at Skye Canyon. Pedal out on the latest 2019 mountain\, road and hybrid bikes. \nPlease RSVP for all events: 702-786-0207
URL:https://skyecanyon.com/skye-events/bike-demo-day-w-southwest-bikes/
CATEGORIES:Resident
ATTACH;FMTTYPE=image/jpeg:https://skyecanyon.com/wp-content/uploads/2018/08/news-banner.jpg
END:VEVENT
BEGIN:VEVENT
DTSTART;TZID=America/Los_Angeles:20181105T100000
DTEND;TZID=America/Los_Angeles:20181105T110000
DTSTAMP:20260421T222357
CREATED:20181030T004218Z
LAST-MODIFIED:20181030T004218Z
UID:10001813-1541412000-1541415600@skyecanyon.com
SUMMARY:Yoga Fusion
DESCRIPTION:Please RSVP for all classes to ensure a spot in the class: 702-786-0207
URL:https://skyecanyon.com/skye-events/yoga-fusion-2/
CATEGORIES:Resident
ATTACH;FMTTYPE=image/jpeg:https://skyecanyon.com/wp-content/uploads/2018/08/Skye_Canyon_062017_3744_fitliveshere.jpg
END:VEVENT
BEGIN:VEVENT
DTSTART;TZID=America/Los_Angeles:20181105T183000
DTEND;TZID=America/Los_Angeles:20181105T200000
DTSTAMP:20260421T222357
CREATED:20181029T212448Z
LAST-MODIFIED:20181031T194907Z
UID:10001792-1541442600-1541448000@skyecanyon.com
SUMMARY:Skye Karate Camp
DESCRIPTION:Skye Fitness will be hosting a 3-day introduction to Karate. This camp will teach the basic steps and movements\, patience\, strength\, and skill. For Skye Canyon residents ages 6+.\n$30 per person for all three days. \nAGES 6-9: 6:30pm – 7:00pm\nAGES 10+: 7:00pm– 8:00pm \nPlease RSVP for all events: 702-786-0207
URL:https://skyecanyon.com/skye-events/skye-karate-camp/
CATEGORIES:Resident
END:VEVENT
BEGIN:VEVENT
DTSTART;TZID=America/Los_Angeles:20181106T100000
DTEND;TZID=America/Los_Angeles:20181106T120000
DTSTAMP:20260421T222357
CREATED:20181106T001851Z
LAST-MODIFIED:20181106T004913Z
UID:10001822-1541498400-1541505600@skyecanyon.com
SUMMARY:Pilates Reformer | 10AM & 11AM
DESCRIPTION:Tuesdays at 10:00am & 11:00am \n\n\n\n\nPlease RSVP for all classes to ensure a spot in the class: 702-786-0207 \n\n\n\n\n*Fee based specialty classes
URL:https://skyecanyon.com/skye-events/pilates-reformer-11-06-18/
CATEGORIES:Resident
ATTACH;FMTTYPE=image/jpeg:https://skyecanyon.com/wp-content/uploads/2018/08/Skye_Canyon_062017_3744_fitliveshere.jpg
END:VEVENT
BEGIN:VEVENT
DTSTART;TZID=America/Los_Angeles:20181106T183000
DTEND;TZID=America/Los_Angeles:20181106T200000
DTSTAMP:20260421T222357
CREATED:20181029T212657Z
LAST-MODIFIED:20181031T194851Z
UID:10001793-1541529000-1541534400@skyecanyon.com
SUMMARY:Skye Karate Camp
DESCRIPTION:Skye Fitness will be hosting a 3-day introduction to Karate. This camp will teach the basic steps and movements\, patience\, strength\, and skill. For Skye Canyon residents ages 6+.\n$30 per person for all three days. \nAGES 6-9: 6:30pm – 7:00pm\nAGES 10+: 7:00pm– 8:00pm \nPlease RSVP for all events: 702-786-0207
URL:https://skyecanyon.com/skye-events/skye-karate-camp-day-2/
CATEGORIES:Resident
END:VEVENT
BEGIN:VEVENT
DTSTART;TZID=America/Los_Angeles:20181107T110000
DTEND;TZID=America/Los_Angeles:20181107T120000
DTSTAMP:20260421T222357
CREATED:20181030T004808Z
LAST-MODIFIED:20181030T005124Z
UID:10001706-1541588400-1541592000@skyecanyon.com
SUMMARY:Yoga
DESCRIPTION:Please RSVP for all classes to ensure a spot in the class: 702-786-0207
URL:https://skyecanyon.com/skye-events/yoga/
CATEGORIES:Resident
ATTACH;FMTTYPE=image/jpeg:https://skyecanyon.com/wp-content/uploads/2018/08/Skye_Canyon_062017_3744_fitliveshere.jpg
END:VEVENT
BEGIN:VEVENT
DTSTART;TZID=America/Los_Angeles:20181107T183000
DTEND;TZID=America/Los_Angeles:20181107T200000
DTSTAMP:20260421T222357
CREATED:20181029T212807Z
LAST-MODIFIED:20181031T194836Z
UID:10001794-1541615400-1541620800@skyecanyon.com
SUMMARY:Skye Karate Camp
DESCRIPTION:Skye Fitness will be hosting a 3-day introduction to Karate. This camp will teach the basic steps and movements\, patience\, strength\, and skill. For Skye Canyon residents ages 6+.\n$30 per person for all three days. \nAGES 6-9: 6:30pm – 7:00pm\nAGES 10+: 7:00pm– 8:00pm \nPlease RSVP for all events: 702-786-0207
URL:https://skyecanyon.com/skye-events/skye-karate-camp-day-3/
CATEGORIES:Resident
END:VEVENT
BEGIN:VEVENT
DTSTART;TZID=America/Los_Angeles:20181109T100000
DTEND;TZID=America/Los_Angeles:20181109T120000
DTSTAMP:20260421T222357
CREATED:20181106T001851Z
LAST-MODIFIED:20181106T005026Z
UID:10001714-1541757600-1541764800@skyecanyon.com
SUMMARY:Pilates Reformer | 10AM & 11AM
DESCRIPTION:Fridays at 10:00am & 11:00am \n\n\n\n\nPlease RSVP for all classes to ensure a spot in the class: 702-786-0207 \n\n\n\n\n*Fee based specialty classes
URL:https://skyecanyon.com/skye-events/pilates-reformer-11-09-18/
CATEGORIES:Resident
ATTACH;FMTTYPE=image/jpeg:https://skyecanyon.com/wp-content/uploads/2018/08/Skye_Canyon_062017_3744_fitliveshere.jpg
END:VEVENT
BEGIN:VEVENT
DTSTART;TZID=America/Los_Angeles:20181109T173000
DTEND;TZID=America/Los_Angeles:20181109T193000
DTSTAMP:20260421T222357
CREATED:20181029T213002Z
LAST-MODIFIED:20181029T215954Z
UID:10001795-1541784600-1541791800@skyecanyon.com
SUMMARY:JEOPARDY at Skye
DESCRIPTION:Come battle your friends and neighbors in the first ever Skye Canyon Jeopardy! Team of 1-4 and all ages are welcome. Please be sure to RSVP. \nPlease RSVP for all events: 702-786-0207
URL:https://skyecanyon.com/skye-events/jeopardy-at-skye/
CATEGORIES:Resident
END:VEVENT
BEGIN:VEVENT
DTSTART;TZID=America/Los_Angeles:20181109T180000
DTEND;TZID=America/Los_Angeles:20181109T190000
DTSTAMP:20260421T222357
CREATED:20181106T001851Z
LAST-MODIFIED:20181106T001851Z
UID:10001710-1541786400-1541790000@skyecanyon.com
SUMMARY:TRX Training
DESCRIPTION:Please RSVP for all classes to ensure a spot in the class: 702-786-0207 \n\n\n\n\n*Fee based specialty class
URL:https://skyecanyon.com/skye-events/trx-training-11-09-18/
CATEGORIES:Resident
ATTACH;FMTTYPE=image/jpeg:https://skyecanyon.com/wp-content/uploads/2018/10/Skye_Canyon_062017_3487.jpg
END:VEVENT
BEGIN:VEVENT
DTSTART;TZID=America/Los_Angeles:20181110T080000
DTEND;TZID=America/Los_Angeles:20181110T200000
DTSTAMP:20260421T222357
CREATED:20181029T215213Z
LAST-MODIFIED:20181029T223019Z
UID:10001797-1541836800-1541880000@skyecanyon.com
SUMMARY:Hike Valley of Fire
DESCRIPTION:Take a day trip to Valley of Fire where the views appear to be from another world. Hike Fire Wave and White Domes Trail to take in all that this area has to offer. Both trails are 1.25 miles long and are rated easy. Depart at 8:00am. \nPlease RSVP for all events: 702-786-0207
URL:https://skyecanyon.com/skye-events/hike-valley-of-fire/
CATEGORIES:Resident
ATTACH;FMTTYPE=image/jpeg:https://skyecanyon.com/wp-content/uploads/2018/10/bearded-hiker-at-valley-of-fire-park-in-nevada-looking-at-sunset-930261232_3867x2579.jpg
END:VEVENT
BEGIN:VEVENT
DTSTART;TZID=America/Los_Angeles:20181112T100000
DTEND;TZID=America/Los_Angeles:20181112T110000
DTSTAMP:20260421T222357
CREATED:20181030T003837Z
LAST-MODIFIED:20181030T004357Z
UID:10001812-1542016800-1542020400@skyecanyon.com
SUMMARY:Yoga Fusion
DESCRIPTION:Please RSVP for all classes to ensure a spot in the class: 702-786-0207
URL:https://skyecanyon.com/skye-events/yoga-fusion/
CATEGORIES:Resident
ATTACH;FMTTYPE=image/jpeg:https://skyecanyon.com/wp-content/uploads/2018/08/Skye_Canyon_062017_3744_fitliveshere.jpg
END:VEVENT
BEGIN:VEVENT
DTSTART;TZID=America/Los_Angeles:20181113T100000
DTEND;TZID=America/Los_Angeles:20181113T120000
DTSTAMP:20260421T222357
CREATED:20181106T001851Z
LAST-MODIFIED:20181106T005246Z
UID:10001824-1542103200-1542110400@skyecanyon.com
SUMMARY:Pilates Reformer | 10AM & 11AM
DESCRIPTION:Tuesdays at 10:00am & 11:00am \n\n\n\n\nPlease RSVP for all classes to ensure a spot in the class: 702-786-0207 \n\n\n\n\n*Fee based specialty classes
URL:https://skyecanyon.com/skye-events/pilates-reformer-11-13-18/
CATEGORIES:Resident
ATTACH;FMTTYPE=image/jpeg:https://skyecanyon.com/wp-content/uploads/2018/08/Skye_Canyon_062017_3744_fitliveshere.jpg
END:VEVENT
BEGIN:VEVENT
DTSTART;TZID=America/Los_Angeles:20181114T110000
DTEND;TZID=America/Los_Angeles:20181114T120000
DTSTAMP:20260421T222357
CREATED:20181030T004808Z
LAST-MODIFIED:20181030T005548Z
UID:10001707-1542193200-1542196800@skyecanyon.com
SUMMARY:Yoga
DESCRIPTION:Please RSVP for all classes to ensure a spot in the class: 702-786-0207
URL:https://skyecanyon.com/skye-events/yoga-11-14-18/
CATEGORIES:Resident
ATTACH;FMTTYPE=image/jpeg:https://skyecanyon.com/wp-content/uploads/2018/08/Skye_Canyon_062017_3744_fitliveshere.jpg
END:VEVENT
BEGIN:VEVENT
DTSTART;TZID=America/Los_Angeles:20181116T100000
DTEND;TZID=America/Los_Angeles:20181116T120000
DTSTAMP:20260421T222357
CREATED:20181106T001851Z
LAST-MODIFIED:20181106T005104Z
UID:10001815-1542362400-1542369600@skyecanyon.com
SUMMARY:Pilates Reformer | 10AM & 11AM
DESCRIPTION:Fridays at 10:00am & 11:00am \n\n\n\n\nPlease RSVP for all classes to ensure a spot in the class: 702-786-0207 \n\n\n\n\n*Fee based specialty classes
URL:https://skyecanyon.com/skye-events/pilates-reformer-11-16-18/
CATEGORIES:Resident
ATTACH;FMTTYPE=image/jpeg:https://skyecanyon.com/wp-content/uploads/2018/08/Skye_Canyon_062017_3744_fitliveshere.jpg
END:VEVENT
BEGIN:VEVENT
DTSTART;TZID=America/Los_Angeles:20181116T180000
DTEND;TZID=America/Los_Angeles:20181116T190000
DTSTAMP:20260421T222357
CREATED:20181106T001851Z
LAST-MODIFIED:20181106T002015Z
UID:10001711-1542391200-1542394800@skyecanyon.com
SUMMARY:TRX Training
DESCRIPTION:Please RSVP for all classes to ensure a spot in the class: 702-786-0207 \n\n\n\n\n*Fee based specialty class
URL:https://skyecanyon.com/skye-events/trx-training-11-16-18/
CATEGORIES:Resident
ATTACH;FMTTYPE=image/jpeg:https://skyecanyon.com/wp-content/uploads/2018/10/Skye_Canyon_062017_3487.jpg
END:VEVENT
BEGIN:VEVENT
DTSTART;TZID=America/Los_Angeles:20181116T180000
DTEND;TZID=America/Los_Angeles:20181116T193000
DTSTAMP:20260421T222357
CREATED:20181029T215324Z
LAST-MODIFIED:20181029T222553Z
UID:10001799-1542391200-1542396600@skyecanyon.com
SUMMARY:S’mores Night
DESCRIPTION:Enjoy a Fall evening with s’mores\, hot chocolate\, and cider. Come help us celebrate the season on the Skye Center Patio. \n\n\n\n\n\n\nPlease RSVP for all events: 702-786-0207
URL:https://skyecanyon.com/skye-events/smores-night/
CATEGORIES:Resident
ATTACH;FMTTYPE=image/jpeg:https://skyecanyon.com/wp-content/uploads/2018/10/iStock-838472474_smores.jpg
END:VEVENT
BEGIN:VEVENT
DTSTART;TZID=America/Los_Angeles:20181119T100000
DTEND;TZID=America/Los_Angeles:20181119T110000
DTSTAMP:20260421T222357
CREATED:20181030T004540Z
LAST-MODIFIED:20181030T004540Z
UID:10001814-1542621600-1542625200@skyecanyon.com
SUMMARY:Yoga Fusion
DESCRIPTION:Please RSVP for all classes to ensure a spot in the class: 702-786-0207
URL:https://skyecanyon.com/skye-events/yoga-fusion-3/
CATEGORIES:Resident
ATTACH;FMTTYPE=image/jpeg:https://skyecanyon.com/wp-content/uploads/2018/08/Skye_Canyon_062017_3744_fitliveshere.jpg
END:VEVENT
BEGIN:VEVENT
DTSTART;TZID=America/Los_Angeles:20181120T100000
DTEND;TZID=America/Los_Angeles:20181120T120000
DTSTAMP:20260421T222357
CREATED:20181106T001851Z
LAST-MODIFIED:20181106T005526Z
UID:10001826-1542708000-1542715200@skyecanyon.com
SUMMARY:Pilates Reformer | 10AM & 11AM
DESCRIPTION:Tuesdays at 10:00am & 11:00am \n\n\n\n\nPlease RSVP for all classes to ensure a spot in the class: 702-786-0207 \n\n\n\n\n*Fee based specialty classes
URL:https://skyecanyon.com/skye-events/pilates-reformer-11-20-18/
CATEGORIES:Resident
ATTACH;FMTTYPE=image/jpeg:https://skyecanyon.com/wp-content/uploads/2018/08/Skye_Canyon_062017_3744_fitliveshere.jpg
END:VEVENT
BEGIN:VEVENT
DTSTART;TZID=America/Los_Angeles:20181121T110000
DTEND;TZID=America/Los_Angeles:20181121T120000
DTSTAMP:20260421T222357
CREATED:20181030T004808Z
LAST-MODIFIED:20181030T005532Z
UID:10001708-1542798000-1542801600@skyecanyon.com
SUMMARY:Yoga
DESCRIPTION:Please RSVP for all classes to ensure a spot in the class: 702-786-0207
URL:https://skyecanyon.com/skye-events/yoga-11-21-18/
CATEGORIES:Resident
ATTACH;FMTTYPE=image/jpeg:https://skyecanyon.com/wp-content/uploads/2018/08/Skye_Canyon_062017_3744_fitliveshere.jpg
END:VEVENT
BEGIN:VEVENT
DTSTART;TZID=America/Los_Angeles:20181123T100000
DTEND;TZID=America/Los_Angeles:20181123T120000
DTSTAMP:20260421T222357
CREATED:20181106T001851Z
LAST-MODIFIED:20181106T005112Z
UID:10001816-1542967200-1542974400@skyecanyon.com
SUMMARY:Pilates Reformer | 10AM & 11AM
DESCRIPTION:Fridays at 10:00am & 11:00am \n\n\n\n\nPlease RSVP for all classes to ensure a spot in the class: 702-786-0207 \n\n\n\n\n*Fee based specialty classes
URL:https://skyecanyon.com/skye-events/pilates-reformer-11-23-18/
CATEGORIES:Resident
ATTACH;FMTTYPE=image/jpeg:https://skyecanyon.com/wp-content/uploads/2018/08/Skye_Canyon_062017_3744_fitliveshere.jpg
END:VEVENT
BEGIN:VEVENT
DTSTART;TZID=America/Los_Angeles:20181123T180000
DTEND;TZID=America/Los_Angeles:20181123T190000
DTSTAMP:20260421T222357
CREATED:20181106T001851Z
LAST-MODIFIED:20181106T002211Z
UID:10001713-1542996000-1542999600@skyecanyon.com
SUMMARY:TRX Training
DESCRIPTION:Please RSVP for all classes to ensure a spot in the class: 702-786-0207 \n\n\n\n\n*Fee based specialty class
URL:https://skyecanyon.com/skye-events/trx-training-11-23-18/
CATEGORIES:Resident
ATTACH;FMTTYPE=image/jpeg:https://skyecanyon.com/wp-content/uploads/2018/10/Skye_Canyon_062017_3487.jpg
END:VEVENT
BEGIN:VEVENT
DTSTART;TZID=America/Los_Angeles:20181125T090000
DTEND;TZID=America/Los_Angeles:20181125T120000
DTSTAMP:20260421T222357
CREATED:20181029T215924Z
LAST-MODIFIED:20181029T222749Z
UID:10001801-1543136400-1543147200@skyecanyon.com
SUMMARY:Coffee Talk
DESCRIPTION:Come meet your neighbors while enjoying coffee and pastries and learn about upcoming activities at Skye Canyon Park. \nPlease RSVP for all events: 702-786-0207
URL:https://skyecanyon.com/skye-events/coffee-talk/
CATEGORIES:Resident
ATTACH;FMTTYPE=image/jpeg:https://skyecanyon.com/wp-content/uploads/2018/10/iStock-585173962_coffee-talk.jpg
END:VEVENT
END:VCALENDAR