BEGIN:VCALENDAR
VERSION:2.0
PRODID:-//Skye Canyon - ECPv6.15.20//NONSGML v1.0//EN
CALSCALE:GREGORIAN
METHOD:PUBLISH
X-WR-CALNAME:Skye Canyon
X-ORIGINAL-URL:https://skyecanyon.com
X-WR-CALDESC:Events for Skye Canyon
REFRESH-INTERVAL;VALUE=DURATION:PT1H
X-Robots-Tag:noindex
X-PUBLISHED-TTL:PT1H
BEGIN:VTIMEZONE
TZID:America/Los_Angeles
BEGIN:DAYLIGHT
TZOFFSETFROM:-0800
TZOFFSETTO:-0700
TZNAME:PDT
DTSTART:20200308T100000
END:DAYLIGHT
BEGIN:STANDARD
TZOFFSETFROM:-0700
TZOFFSETTO:-0800
TZNAME:PST
DTSTART:20201101T090000
END:STANDARD
BEGIN:DAYLIGHT
TZOFFSETFROM:-0800
TZOFFSETTO:-0700
TZNAME:PDT
DTSTART:20210314T100000
END:DAYLIGHT
BEGIN:STANDARD
TZOFFSETFROM:-0700
TZOFFSETTO:-0800
TZNAME:PST
DTSTART:20211107T090000
END:STANDARD
BEGIN:DAYLIGHT
TZOFFSETFROM:-0800
TZOFFSETTO:-0700
TZNAME:PDT
DTSTART:20220313T100000
END:DAYLIGHT
BEGIN:STANDARD
TZOFFSETFROM:-0700
TZOFFSETTO:-0800
TZNAME:PST
DTSTART:20221106T090000
END:STANDARD
BEGIN:DAYLIGHT
TZOFFSETFROM:-0800
TZOFFSETTO:-0700
TZNAME:PDT
DTSTART:20230312T100000
END:DAYLIGHT
BEGIN:STANDARD
TZOFFSETFROM:-0700
TZOFFSETTO:-0800
TZNAME:PST
DTSTART:20231105T090000
END:STANDARD
END:VTIMEZONE
BEGIN:VEVENT
DTSTART;TZID=America/Los_Angeles:20220106T140000
DTEND;TZID=America/Los_Angeles:20220106T180000
DTSTAMP:20260423T131142
CREATED:20181106T001851Z
LAST-MODIFIED:20211217T220317Z
UID:10002505-1641477600-1641492000@skyecanyon.com
SUMMARY:Farmers Market
DESCRIPTION:Join us for our weekly Farmer’s Market every Thursday from 2pm – 6pm. Avoid the large crowds of the grocery stores and support local farmers! \nRods Produce Market brings the best fresh organic produce from Reedley\, CA to Las Vegas Farmers’ Markets across the valley. Payment is accepted via debit/credit cards and cash. We hope you’ll stop by for the freshest fruits\, veggies and other fresh local groceries.
URL:https://skyecanyon.com/skye-events/farmers-market-1-6-21/
LOCATION:Skye Center
CATEGORIES:Public
ATTACH;FMTTYPE=image/jpeg:https://skyecanyon.com/wp-content/uploads/2018/11/farmers-market-event.jpg
END:VEVENT
BEGIN:VEVENT
DTSTART;TZID=America/Los_Angeles:20211230T140000
DTEND;TZID=America/Los_Angeles:20211230T180000
DTSTAMP:20260423T131142
CREATED:20181106T001851Z
LAST-MODIFIED:20211201T001129Z
UID:10002497-1640872800-1640887200@skyecanyon.com
SUMMARY:Farmers Market
DESCRIPTION:Join us for our weekly Farmer’s Market every Thursday from 2pm – 6pm. Avoid the large crowds of the grocery stores and support local farmers! \nRods Produce Market brings the best fresh organic produce from Reedley\, CA to Las Vegas Farmers’ Markets across the valley. Payment is accepted via debit/credit cards and cash. We hope you’ll stop by for the freshest fruits\, veggies and other fresh local groceries.
URL:https://skyecanyon.com/skye-events/farmers-market-12-30-21/
LOCATION:Skye Center
CATEGORIES:Public
ATTACH;FMTTYPE=image/jpeg:https://skyecanyon.com/wp-content/uploads/2018/11/farmers-market-event.jpg
END:VEVENT
BEGIN:VEVENT
DTSTART;TZID=America/Los_Angeles:20211223T140000
DTEND;TZID=America/Los_Angeles:20211223T180000
DTSTAMP:20260423T131142
CREATED:20181106T001851Z
LAST-MODIFIED:20211201T001058Z
UID:10002498-1640268000-1640282400@skyecanyon.com
SUMMARY:Farmers Market
DESCRIPTION:Join us for our weekly Farmer’s Market every Thursday from 2pm – 6pm. Avoid the large crowds of the grocery stores and support local farmers! \nRods Produce Market brings the best fresh organic produce from Reedley\, CA to Las Vegas Farmers’ Markets across the valley. Payment is accepted via debit/credit cards and cash. We hope you’ll stop by for the freshest fruits\, veggies and other fresh local groceries.
URL:https://skyecanyon.com/skye-events/farmers-market-12-30-21-2/
LOCATION:Skye Center
CATEGORIES:Public
ATTACH;FMTTYPE=image/jpeg:https://skyecanyon.com/wp-content/uploads/2018/11/farmers-market-event.jpg
END:VEVENT
BEGIN:VEVENT
DTSTART;TZID=America/Los_Angeles:20211216T140000
DTEND;TZID=America/Los_Angeles:20211216T180000
DTSTAMP:20260423T131142
CREATED:20181106T001851Z
LAST-MODIFIED:20211201T001203Z
UID:10002499-1639663200-1639677600@skyecanyon.com
SUMMARY:Farmers Market
DESCRIPTION:Join us for our weekly Farmer’s Market every Thursday from 2pm – 6pm. Avoid the large crowds of the grocery stores and support local farmers! \nRods Produce Market brings the best fresh organic produce from Reedley\, CA to Las Vegas Farmers’ Markets across the valley. Payment is accepted via debit/credit cards and cash. We hope you’ll stop by for the freshest fruits\, veggies and other fresh local groceries.
URL:https://skyecanyon.com/skye-events/farmers-market-12-16-21/
LOCATION:Skye Center
CATEGORIES:Public
ATTACH;FMTTYPE=image/jpeg:https://skyecanyon.com/wp-content/uploads/2018/11/farmers-market-event.jpg
END:VEVENT
BEGIN:VEVENT
DTSTART;TZID=America/Los_Angeles:20211209T180000
DTEND;TZID=America/Los_Angeles:20211209T210000
DTSTAMP:20260423T131142
CREATED:20191029T165649Z
LAST-MODIFIED:20211201T000644Z
UID:10002496-1639072800-1639083600@skyecanyon.com
SUMMARY:Resident-Only Pray for Snow Party
DESCRIPTION:All Skye Canyon residents are invited to celebrate the holiday season at the annual Pray For Snow resident-only party. Bring your appetite and enjoy some complimentary tasty eats\, craft beer\, and refreshments. Enjoy winter crafts\, holiday shopping\, and photos with Santa. \nThis event is free to attend for all Skye Canyon Community Association residents. Reservations are required and you must show your Skye Canyon Resident Card or proof of residency.
URL:https://skyecanyon.com/skye-events/pray-for-snow-party-2021/
LOCATION:Skye Center
CATEGORIES:Resident
ATTACH;FMTTYPE=image/jpeg:https://skyecanyon.com/wp-content/uploads/2019/10/Pray-for-Snow-Website-event-photo.jpg
END:VEVENT
BEGIN:VEVENT
DTSTART;TZID=America/Los_Angeles:20211209T140000
DTEND;TZID=America/Los_Angeles:20211209T180000
DTSTAMP:20260423T131142
CREATED:20181106T001851Z
LAST-MODIFIED:20211201T001245Z
UID:10002500-1639058400-1639072800@skyecanyon.com
SUMMARY:Farmers Market
DESCRIPTION:Join us for our weekly Farmer’s Market every Thursday from 2pm – 6pm. Avoid the large crowds of the grocery stores and support local farmers! \nRods Produce Market brings the best fresh organic produce from Reedley\, CA to Las Vegas Farmers’ Markets across the valley. Payment is accepted via debit/credit cards and cash. We hope you’ll stop by for the freshest fruits\, veggies and other fresh local groceries.
URL:https://skyecanyon.com/skye-events/farmers-market-12-9-21/
LOCATION:Skye Center
CATEGORIES:Public
ATTACH;FMTTYPE=image/jpeg:https://skyecanyon.com/wp-content/uploads/2018/11/farmers-market-event.jpg
END:VEVENT
BEGIN:VEVENT
DTSTART;TZID=America/Los_Angeles:20211202T140000
DTEND;TZID=America/Los_Angeles:20211202T180000
DTSTAMP:20260423T131142
CREATED:20181106T001851Z
LAST-MODIFIED:20211201T001325Z
UID:10002501-1638453600-1638468000@skyecanyon.com
SUMMARY:Farmers Market
DESCRIPTION:Join us for our weekly Farmer’s Market every Thursday from 2pm – 6pm. Avoid the large crowds of the grocery stores and support local farmers! \nRods Produce Market brings the best fresh organic produce from Reedley\, CA to Las Vegas Farmers’ Markets across the valley. Payment is accepted via debit/credit cards and cash. We hope you’ll stop by for the freshest fruits\, veggies and other fresh local groceries.
URL:https://skyecanyon.com/skye-events/farmers-market-12-2-21/
LOCATION:Skye Center
CATEGORIES:Public
ATTACH;FMTTYPE=image/jpeg:https://skyecanyon.com/wp-content/uploads/2018/11/farmers-market-event.jpg
END:VEVENT
BEGIN:VEVENT
DTSTART;TZID=America/Los_Angeles:20211118T140000
DTEND;TZID=America/Los_Angeles:20211118T200000
DTSTAMP:20260423T131142
CREATED:20181106T001851Z
LAST-MODIFIED:20211110T000831Z
UID:10002457-1637244000-1637265600@skyecanyon.com
SUMMARY:Farmers Market
DESCRIPTION:Join us for our weekly Farmer’s Market every Thursday from 2pm – 8pm. Avoid the large crowds of the grocery stores and support local farmers! \nRods Produce Market brings the best fresh organic produce from Reedley\, CA to Las Vegas Farmers’ Markets across the valley. Payment is accepted via debit/credit cards and cash. We hope you’ll stop by for the freshest fruits\, veggies and other fresh local groceries.
URL:https://skyecanyon.com/skye-events/farmers-market-11-18-21/
LOCATION:Skye Center
CATEGORIES:Public
ATTACH;FMTTYPE=image/jpeg:https://skyecanyon.com/wp-content/uploads/2018/11/farmers-market-event.jpg
END:VEVENT
BEGIN:VEVENT
DTSTART;TZID=America/Los_Angeles:20211111T140000
DTEND;TZID=America/Los_Angeles:20211111T200000
DTSTAMP:20260423T131142
CREATED:20181106T001851Z
LAST-MODIFIED:20211110T000743Z
UID:10002458-1636639200-1636660800@skyecanyon.com
SUMMARY:Farmers Market
DESCRIPTION:Join us for our weekly Farmer’s Market every Thursday from 2pm – 8pm. Avoid the large crowds of the grocery stores and support local farmers! \nRods Produce Market brings the best fresh organic produce from Reedley\, CA to Las Vegas Farmers’ Markets across the valley. Payment is accepted via debit/credit cards and cash. We hope you’ll stop by for the freshest fruits\, veggies and other fresh local groceries.
URL:https://skyecanyon.com/skye-events/farmers-market-11-11-21/
LOCATION:Skye Center
CATEGORIES:Public
ATTACH;FMTTYPE=image/jpeg:https://skyecanyon.com/wp-content/uploads/2018/11/farmers-market-event.jpg
END:VEVENT
BEGIN:VEVENT
DTSTART;TZID=America/Los_Angeles:20211104T140000
DTEND;TZID=America/Los_Angeles:20211104T200000
DTSTAMP:20260423T131142
CREATED:20181106T001851Z
LAST-MODIFIED:20211110T000705Z
UID:10002459-1636034400-1636056000@skyecanyon.com
SUMMARY:Farmers Market
DESCRIPTION:Join us for our weekly Farmer’s Market every Thursday from 2pm – 8pm. Avoid the large crowds of the grocery stores and support local farmers! \nRods Produce Market brings the best fresh organic produce from Reedley\, CA to Las Vegas Farmers’ Markets across the valley. Payment is accepted via debit/credit cards and cash. We hope you’ll stop by for the freshest fruits\, veggies and other fresh local groceries.
URL:https://skyecanyon.com/skye-events/farmers-market-11-4-21/
LOCATION:Skye Center
CATEGORIES:Public
ATTACH;FMTTYPE=image/jpeg:https://skyecanyon.com/wp-content/uploads/2018/11/farmers-market-event.jpg
END:VEVENT
BEGIN:VEVENT
DTSTART;TZID=America/Los_Angeles:20211028T140000
DTEND;TZID=America/Los_Angeles:20211028T200000
DTSTAMP:20260423T131142
CREATED:20181106T001851Z
LAST-MODIFIED:20211001T173357Z
UID:10002438-1635429600-1635451200@skyecanyon.com
SUMMARY:Farmers Market
DESCRIPTION:Join us for our weekly Farmer’s Market every Thursday from 2pm – 8pm. Avoid the large crowds of the grocery stores and support local farmers! \nRods Produce Market brings the best fresh organic produce from Reedley\, CA to Las Vegas Farmers’ Markets across the valley. Payment is accepted via debit/credit cards and cash. We hope you’ll stop by for the freshest fruits\, veggies and other fresh local groceries.
URL:https://skyecanyon.com/skye-events/farmers-market-10-28-21/
LOCATION:Skye Center
CATEGORIES:Public
ATTACH;FMTTYPE=image/jpeg:https://skyecanyon.com/wp-content/uploads/2018/11/farmers-market-event.jpg
END:VEVENT
BEGIN:VEVENT
DTSTART;TZID=America/Los_Angeles:20211021T140000
DTEND;TZID=America/Los_Angeles:20211021T200000
DTSTAMP:20260423T131142
CREATED:20181106T001851Z
LAST-MODIFIED:20211001T173322Z
UID:10002437-1634824800-1634846400@skyecanyon.com
SUMMARY:Farmers Market
DESCRIPTION:Join us for our weekly Farmer’s Market every Thursday from 2pm – 8pm. Avoid the large crowds of the grocery stores and support local farmers! \nRods Produce Market brings the best fresh organic produce from Reedley\, CA to Las Vegas Farmers’ Markets across the valley. Payment is accepted via debit/credit cards and cash. We hope you’ll stop by for the freshest fruits\, veggies and other fresh local groceries.
URL:https://skyecanyon.com/skye-events/farmers-market-10-21-21/
LOCATION:Skye Center
CATEGORIES:Public
ATTACH;FMTTYPE=image/jpeg:https://skyecanyon.com/wp-content/uploads/2018/11/farmers-market-event.jpg
END:VEVENT
BEGIN:VEVENT
DTSTART;TZID=America/Los_Angeles:20211014T140000
DTEND;TZID=America/Los_Angeles:20211014T200000
DTSTAMP:20260423T131142
CREATED:20181106T001851Z
LAST-MODIFIED:20211001T173230Z
UID:10002436-1634220000-1634241600@skyecanyon.com
SUMMARY:Farmers Market
DESCRIPTION:Join us for our weekly Farmer’s Market every Thursday from 2pm – 8pm. Avoid the large crowds of the grocery stores and support local farmers! \nRods Produce Market brings the best fresh organic produce from Reedley\, CA to Las Vegas Farmers’ Markets across the valley. Payment is accepted via debit/credit cards and cash. We hope you’ll stop by for the freshest fruits\, veggies and other fresh local groceries.
URL:https://skyecanyon.com/skye-events/farmers-market-10-14-21/
LOCATION:Skye Center
CATEGORIES:Public
ATTACH;FMTTYPE=image/jpeg:https://skyecanyon.com/wp-content/uploads/2018/11/farmers-market-event.jpg
END:VEVENT
BEGIN:VEVENT
DTSTART;TZID=America/Los_Angeles:20211007T140000
DTEND;TZID=America/Los_Angeles:20211007T200000
DTSTAMP:20260423T131142
CREATED:20181106T001851Z
LAST-MODIFIED:20211001T173037Z
UID:10002435-1633615200-1633636800@skyecanyon.com
SUMMARY:Farmers Market
DESCRIPTION:Join us for our weekly Farmer’s Market every Thursday from 2pm – 8pm. Avoid the large crowds of the grocery stores and support local farmers! \nRods Produce Market brings the best fresh organic produce from Reedley\, CA to Las Vegas Farmers’ Markets across the valley. Payment is accepted via debit/credit cards and cash. We hope you’ll stop by for the freshest fruits\, veggies and other fresh local groceries.
URL:https://skyecanyon.com/skye-events/farmers-market-10-7-21/
LOCATION:Skye Center
CATEGORIES:Public
ATTACH;FMTTYPE=image/jpeg:https://skyecanyon.com/wp-content/uploads/2018/11/farmers-market-event.jpg
END:VEVENT
BEGIN:VEVENT
DTSTART;TZID=America/Los_Angeles:20210930T140000
DTEND;TZID=America/Los_Angeles:20210930T200000
DTSTAMP:20260423T131142
CREATED:20181106T001851Z
LAST-MODIFIED:20210916T170741Z
UID:10002434-1633010400-1633032000@skyecanyon.com
SUMMARY:Farmers Market
DESCRIPTION:Join us for our weekly Farmer’s Market every Thursday from 2pm – 8pm. Avoid the large crowds of the grocery stores and support local farmers! \nRods Produce Market brings the best fresh organic produce from Reedley\, CA to Las Vegas Farmers’ Markets across the valley. Payment is accepted via debit/credit cards and cash. We hope you’ll stop by for the freshest fruits\, veggies and other fresh local groceries.
URL:https://skyecanyon.com/skye-events/farmers-market-9-30-21/
LOCATION:Skye Center
CATEGORIES:Public
ATTACH;FMTTYPE=image/jpeg:https://skyecanyon.com/wp-content/uploads/2018/11/farmers-market-event.jpg
END:VEVENT
BEGIN:VEVENT
DTSTART;TZID=America/Los_Angeles:20210923T140000
DTEND;TZID=America/Los_Angeles:20210923T200000
DTSTAMP:20260423T131142
CREATED:20181106T001851Z
LAST-MODIFIED:20210916T165725Z
UID:10002433-1632405600-1632427200@skyecanyon.com
SUMMARY:Farmers Market
DESCRIPTION:Join us for our weekly Farmer’s Market every Thursday from 2pm – 8pm. Avoid the large crowds of the grocery stores and support local farmers! \nRods Produce Market brings the best fresh organic produce from Reedley\, CA to Las Vegas Farmers’ Markets across the valley. Payment is accepted via debit/credit cards and cash. We hope you’ll stop by for the freshest fruits\, veggies and other fresh local groceries.
URL:https://skyecanyon.com/skye-events/farmers-market-9-23-21/
LOCATION:Skye Center
CATEGORIES:Public
ATTACH;FMTTYPE=image/jpeg:https://skyecanyon.com/wp-content/uploads/2018/11/farmers-market-event.jpg
END:VEVENT
BEGIN:VEVENT
DTSTART;TZID=America/Los_Angeles:20210916T140000
DTEND;TZID=America/Los_Angeles:20210916T200000
DTSTAMP:20260423T131142
CREATED:20181106T001851Z
LAST-MODIFIED:20210916T165607Z
UID:10002432-1631800800-1631822400@skyecanyon.com
SUMMARY:Farmers Market
DESCRIPTION:Join us for our weekly Farmer’s Market every Thursday from 2pm – 8pm. Avoid the large crowds of the grocery stores and support local farmers! \nRods Produce Market brings the best fresh organic produce from Reedley\, CA to Las Vegas Farmers’ Markets across the valley. Payment is accepted via debit/credit cards and cash. We hope you’ll stop by for the freshest fruits\, veggies and other fresh local groceries.
URL:https://skyecanyon.com/skye-events/farmers-market-9-16-21/
LOCATION:Skye Center
CATEGORIES:Public
ATTACH;FMTTYPE=image/jpeg:https://skyecanyon.com/wp-content/uploads/2018/11/farmers-market-event.jpg
END:VEVENT
BEGIN:VEVENT
DTSTART;TZID=America/Los_Angeles:20210909T140000
DTEND;TZID=America/Los_Angeles:20210909T200000
DTSTAMP:20260423T131142
CREATED:20181106T001851Z
LAST-MODIFIED:20210916T165414Z
UID:10002431-1631196000-1631217600@skyecanyon.com
SUMMARY:Farmers Market
DESCRIPTION:Join us for our weekly Farmer’s Market every Thursday from 2pm – 8pm. Avoid the large crowds of the grocery stores and support local farmers! \nRods Produce Market brings the best fresh organic produce from Reedley\, CA to Las Vegas Farmers’ Markets across the valley. Payment is accepted via debit/credit cards and cash. We hope you’ll stop by for the freshest fruits\, veggies and other fresh local groceries.
URL:https://skyecanyon.com/skye-events/farmers-market-9-9-21/
LOCATION:Skye Center
CATEGORIES:Public
ATTACH;FMTTYPE=image/jpeg:https://skyecanyon.com/wp-content/uploads/2018/11/farmers-market-event.jpg
END:VEVENT
BEGIN:VEVENT
DTSTART;TZID=America/Los_Angeles:20210902T140000
DTEND;TZID=America/Los_Angeles:20210902T200000
DTSTAMP:20260423T131142
CREATED:20181106T001851Z
LAST-MODIFIED:20210916T165315Z
UID:10002430-1630591200-1630612800@skyecanyon.com
SUMMARY:Farmers Market
DESCRIPTION:Join us for our weekly Farmer’s Market every Thursday from 2pm – 8pm. Avoid the large crowds of the grocery stores and support local farmers! \nRods Produce Market brings the best fresh organic produce from Reedley\, CA to Las Vegas Farmers’ Markets across the valley. Payment is accepted via debit/credit cards and cash. We hope you’ll stop by for the freshest fruits\, veggies and other fresh local groceries.
URL:https://skyecanyon.com/skye-events/farmers-market-9-2-21/
LOCATION:Skye Center
CATEGORIES:Public
ATTACH;FMTTYPE=image/jpeg:https://skyecanyon.com/wp-content/uploads/2018/11/farmers-market-event.jpg
END:VEVENT
BEGIN:VEVENT
DTSTART;TZID=America/Los_Angeles:20210729T140000
DTEND;TZID=America/Los_Angeles:20210729T200000
DTSTAMP:20260423T131142
CREATED:20181106T001851Z
LAST-MODIFIED:20210629T224122Z
UID:10002377-1627567200-1627588800@skyecanyon.com
SUMMARY:Farmers Market
DESCRIPTION:Join us for our weekly Farmer’s Market every Thursday from 2pm – 8pm. Avoid the large crowds of the grocery stores and support local farmers! \nRods Produce Market brings the best fresh organic produce from Reedley\, CA to Las Vegas Farmers’ Markets across the valley. Payment is accepted via debit/credit cards and cash. We hope you’ll stop by for the freshest fruits\, veggies and other fresh local groceries.
URL:https://skyecanyon.com/skye-events/farmers-market-7-29-21/
LOCATION:Skye Center
CATEGORIES:Public
ATTACH;FMTTYPE=image/jpeg:https://skyecanyon.com/wp-content/uploads/2018/11/farmers-market-event.jpg
END:VEVENT
BEGIN:VEVENT
DTSTART;TZID=America/Los_Angeles:20210722T140000
DTEND;TZID=America/Los_Angeles:20210722T200000
DTSTAMP:20260423T131142
CREATED:20181106T001851Z
LAST-MODIFIED:20210629T224046Z
UID:10002376-1626962400-1626984000@skyecanyon.com
SUMMARY:Farmers Market
DESCRIPTION:Join us for our weekly Farmer’s Market every Thursday from 2pm – 8pm. Avoid the large crowds of the grocery stores and support local farmers! \nRods Produce Market brings the best fresh organic produce from Reedley\, CA to Las Vegas Farmers’ Markets across the valley. Payment is accepted via debit/credit cards and cash. We hope you’ll stop by for the freshest fruits\, veggies and other fresh local groceries.
URL:https://skyecanyon.com/skye-events/farmers-market-7-22-21/
LOCATION:Skye Center
CATEGORIES:Public
ATTACH;FMTTYPE=image/jpeg:https://skyecanyon.com/wp-content/uploads/2018/11/farmers-market-event.jpg
END:VEVENT
BEGIN:VEVENT
DTSTART;TZID=America/Los_Angeles:20210715T140000
DTEND;TZID=America/Los_Angeles:20210715T200000
DTSTAMP:20260423T131142
CREATED:20181106T001851Z
LAST-MODIFIED:20210629T223959Z
UID:10002375-1626357600-1626379200@skyecanyon.com
SUMMARY:Farmers Market
DESCRIPTION:Join us for our weekly Farmer’s Market every Thursday from 2pm – 8pm. Avoid the large crowds of the grocery stores and support local farmers! \nRods Produce Market brings the best fresh organic produce from Reedley\, CA to Las Vegas Farmers’ Markets across the valley. Payment is accepted via debit/credit cards and cash. We hope you’ll stop by for the freshest fruits\, veggies and other fresh local groceries.
URL:https://skyecanyon.com/skye-events/farmers-market-7-15-21/
LOCATION:Skye Center
CATEGORIES:Public
ATTACH;FMTTYPE=image/jpeg:https://skyecanyon.com/wp-content/uploads/2018/11/farmers-market-event.jpg
END:VEVENT
BEGIN:VEVENT
DTSTART;TZID=America/Los_Angeles:20210708T140000
DTEND;TZID=America/Los_Angeles:20210708T200000
DTSTAMP:20260423T131142
CREATED:20181106T001851Z
LAST-MODIFIED:20210629T223921Z
UID:10002374-1625752800-1625774400@skyecanyon.com
SUMMARY:Farmers Market
DESCRIPTION:Join us for our weekly Farmer’s Market every Thursday from 2pm – 8pm. Avoid the large crowds of the grocery stores and support local farmers! \nRods Produce Market brings the best fresh organic produce from Reedley\, CA to Las Vegas Farmers’ Markets across the valley. Payment is accepted via debit/credit cards and cash. We hope you’ll stop by for the freshest fruits\, veggies and other fresh local groceries.
URL:https://skyecanyon.com/skye-events/farmers-market-7-8-21/
LOCATION:Skye Center
CATEGORIES:Public
ATTACH;FMTTYPE=image/jpeg:https://skyecanyon.com/wp-content/uploads/2018/11/farmers-market-event.jpg
END:VEVENT
BEGIN:VEVENT
DTSTART;TZID=America/Los_Angeles:20210701T140000
DTEND;TZID=America/Los_Angeles:20210701T200000
DTSTAMP:20260423T131142
CREATED:20181106T001851Z
LAST-MODIFIED:20210625T232945Z
UID:10002373-1625148000-1625169600@skyecanyon.com
SUMMARY:Farmers Market
DESCRIPTION:Join us for our weekly Farmer’s Market every Thursday from 2pm – 8pm. Avoid the large crowds of the grocery stores and support local farmers! \nRods Produce Market brings the best fresh organic produce from Reedley\, CA to Las Vegas Farmers’ Markets across the valley. Payment is accepted via debit/credit cards and cash. We hope you’ll stop by for the freshest fruits\, veggies and other fresh local groceries.
URL:https://skyecanyon.com/skye-events/farmers-market-7-1-21/
LOCATION:Skye Center
CATEGORIES:Public
ATTACH;FMTTYPE=image/jpeg:https://skyecanyon.com/wp-content/uploads/2018/11/farmers-market-event.jpg
END:VEVENT
BEGIN:VEVENT
DTSTART;TZID=America/Los_Angeles:20210624T140000
DTEND;TZID=America/Los_Angeles:20210624T200000
DTSTAMP:20260423T131142
CREATED:20181106T001851Z
LAST-MODIFIED:20210603T194159Z
UID:10002353-1624543200-1624564800@skyecanyon.com
SUMMARY:Farmers Market
DESCRIPTION:Join us for our weekly Farmer’s Market every Thursday from 2pm – 8pm. Avoid the large crowds of the grocery stores and support local farmers! \nRods Produce Market brings the best fresh organic produce from Reedley\, CA to Las Vegas Farmers’ Markets across the valley. Payment is accepted via debit/credit cards and cash. We hope you’ll stop by for the freshest fruits\, veggies and other fresh local groceries.
URL:https://skyecanyon.com/skye-events/farmers-market-6-24-21/
LOCATION:Skye Center
CATEGORIES:Public
ATTACH;FMTTYPE=image/jpeg:https://skyecanyon.com/wp-content/uploads/2018/11/farmers-market-event.jpg
END:VEVENT
BEGIN:VEVENT
DTSTART;TZID=America/Los_Angeles:20210617T140000
DTEND;TZID=America/Los_Angeles:20210617T200000
DTSTAMP:20260423T131142
CREATED:20181106T001851Z
LAST-MODIFIED:20210603T194125Z
UID:10002352-1623938400-1623960000@skyecanyon.com
SUMMARY:Farmers Market
DESCRIPTION:Join us for our weekly Farmer’s Market every Thursday from 2pm – 8pm. Avoid the large crowds of the grocery stores and support local farmers! \nRods Produce Market brings the best fresh organic produce from Reedley\, CA to Las Vegas Farmers’ Markets across the valley. Payment is accepted via debit/credit cards and cash. We hope you’ll stop by for the freshest fruits\, veggies and other fresh local groceries.
URL:https://skyecanyon.com/skye-events/farmers-market-6-17-21/
LOCATION:Skye Center
CATEGORIES:Public
ATTACH;FMTTYPE=image/jpeg:https://skyecanyon.com/wp-content/uploads/2018/11/farmers-market-event.jpg
END:VEVENT
BEGIN:VEVENT
DTSTART;TZID=America/Los_Angeles:20210610T140000
DTEND;TZID=America/Los_Angeles:20210610T200000
DTSTAMP:20260423T131142
CREATED:20181106T001851Z
LAST-MODIFIED:20210603T194056Z
UID:10002351-1623333600-1623355200@skyecanyon.com
SUMMARY:Farmers Market
DESCRIPTION:Join us for our weekly Farmer’s Market every Thursday from 2pm – 8pm. Avoid the large crowds of the grocery stores and support local farmers! \nRods Produce Market brings the best fresh organic produce from Reedley\, CA to Las Vegas Farmers’ Markets across the valley. Payment is accepted via debit/credit cards and cash. We hope you’ll stop by for the freshest fruits\, veggies and other fresh local groceries.
URL:https://skyecanyon.com/skye-events/farmers-market-6-10-21/
LOCATION:Skye Center
CATEGORIES:Public
ATTACH;FMTTYPE=image/jpeg:https://skyecanyon.com/wp-content/uploads/2018/11/farmers-market-event.jpg
END:VEVENT
BEGIN:VEVENT
DTSTART;TZID=America/Los_Angeles:20210603T140000
DTEND;TZID=America/Los_Angeles:20210603T200000
DTSTAMP:20260423T131142
CREATED:20181106T001851Z
LAST-MODIFIED:20210603T193814Z
UID:10002350-1622728800-1622750400@skyecanyon.com
SUMMARY:Farmers Market
DESCRIPTION:Join us for our weekly Farmer’s Market every Thursday from 2pm – 8pm. Avoid the large crowds of the grocery stores and support local farmers! \nRods Produce Market brings the best fresh organic produce from Reedley\, CA to Las Vegas Farmers’ Markets across the valley. Payment is accepted via debit/credit cards and cash. We hope you’ll stop by for the freshest fruits\, veggies and other fresh local groceries.
URL:https://skyecanyon.com/skye-events/farmers-market-6-3-21/
LOCATION:Skye Center
CATEGORIES:Public
ATTACH;FMTTYPE=image/jpeg:https://skyecanyon.com/wp-content/uploads/2018/11/farmers-market-event.jpg
END:VEVENT
BEGIN:VEVENT
DTSTART;TZID=America/Los_Angeles:20210527T140000
DTEND;TZID=America/Los_Angeles:20210527T200000
DTSTAMP:20260423T131142
CREATED:20181106T001851Z
LAST-MODIFIED:20210429T234159Z
UID:10002314-1622124000-1622145600@skyecanyon.com
SUMMARY:Farmers Market
DESCRIPTION:Join us for our weekly Farmer’s Market every Thursday from 2pm – 8pm. Avoid the large crowds of the grocery stores and support local farmers! \nRods Produce Market brings the best fresh organic produce from Reedley\, CA to Las Vegas Farmers’ Markets across the valley. Payment is accepted via debit/credit cards and cash. We hope you’ll stop by for the freshest fruits\, veggies and other fresh local groceries.
URL:https://skyecanyon.com/skye-events/farmers-market-5-27-21/
LOCATION:Skye Center
CATEGORIES:Public
ATTACH;FMTTYPE=image/jpeg:https://skyecanyon.com/wp-content/uploads/2018/11/farmers-market-event.jpg
END:VEVENT
BEGIN:VEVENT
DTSTART;TZID=America/Los_Angeles:20210520T140000
DTEND;TZID=America/Los_Angeles:20210520T200000
DTSTAMP:20260423T131142
CREATED:20181106T001851Z
LAST-MODIFIED:20210429T234045Z
UID:10002313-1621519200-1621540800@skyecanyon.com
SUMMARY:Farmers Market
DESCRIPTION:Join us for our weekly Farmer’s Market every Thursday from 2pm – 8pm. Avoid the large crowds of the grocery stores and support local farmers! \nRods Produce Market brings the best fresh organic produce from Reedley\, CA to Las Vegas Farmers’ Markets across the valley. Payment is accepted via debit/credit cards and cash. We hope you’ll stop by for the freshest fruits\, veggies and other fresh local groceries.
URL:https://skyecanyon.com/skye-events/farmers-market-5-20-21/
LOCATION:Skye Center
CATEGORIES:Public
ATTACH;FMTTYPE=image/jpeg:https://skyecanyon.com/wp-content/uploads/2018/11/farmers-market-event.jpg
END:VEVENT
END:VCALENDAR